BEGIN:VCALENDAR
VERSION:2.0
PRODID:-//hacksw/handcal//NONSGML v1.0//EN
BEGIN:VEVENT
DTSTAMP:20211120T143000Z
DTSTART:20211120T143000Z
DTEND:20211120T170000Z
LOCATION:Wendelinushof, St. Wendel, 66606, Deutschland
SUMMARY:1. Bockbierfest
END:VEVENT
END:VCALENDAR
